BEGIN:VCALENDAR
VERSION:2.0
PRODID:-//North Orange Continuing Education - ECPv6.15.20//NONSGML v1.0//EN
CALSCALE:GREGORIAN
METHOD:PUBLISH
X-WR-CALNAME:North Orange Continuing Education
X-ORIGINAL-URL:https://noce.edu
X-WR-CALDESC:Events for North Orange Continuing Education
REFRESH-INTERVAL;VALUE=DURATION:PT1H
X-Robots-Tag:noindex
X-PUBLISHED-TTL:PT1H
BEGIN:VTIMEZONE
TZID:America/Los_Angeles
BEGIN:DAYLIGHT
TZOFFSETFROM:-0800
TZOFFSETTO:-0700
TZNAME:PDT
DTSTART:20240310T100000
END:DAYLIGHT
BEGIN:STANDARD
TZOFFSETFROM:-0700
TZOFFSETTO:-0800
TZNAME:PST
DTSTART:20241103T090000
END:STANDARD
BEGIN:DAYLIGHT
TZOFFSETFROM:-0800
TZOFFSETTO:-0700
TZNAME:PDT
DTSTART:20250309T100000
END:DAYLIGHT
BEGIN:STANDARD
TZOFFSETFROM:-0700
TZOFFSETTO:-0800
TZNAME:PST
DTSTART:20251102T090000
END:STANDARD
BEGIN:DAYLIGHT
TZOFFSETFROM:-0800
TZOFFSETTO:-0700
TZNAME:PDT
DTSTART:20260308T100000
END:DAYLIGHT
BEGIN:STANDARD
TZOFFSETFROM:-0700
TZOFFSETTO:-0800
TZNAME:PST
DTSTART:20261101T090000
END:STANDARD
END:VTIMEZONE
BEGIN:VEVENT
DTSTART;TZID=America/Los_Angeles:20251202T150000
DTEND;TZID=America/Los_Angeles:20251202T170000
DTSTAMP:20260419T105340
CREATED:20250610T171028Z
LAST-MODIFIED:20251120T160435Z
UID:29199-1764687600-1764694800@noce.edu
SUMMARY:Academic Senate Meeting
DESCRIPTION:Academic Senate meetings for the 2025/26 school year will be held on the first Tuesday of each month at 3 p.m. at the Anaheim Campus\, room 105\, from September through May (no meeting in January 2026).\nThe purpose of the Academic Senate meeting is to make recommendations on academic and professional matters. The Senate is the official faculty representative on policy development and implementation matters before the NOCCCD Board and Chancellor. \nCurrent topics at the Academic Senate meeting include WASC accreditation and more.
URL:https://noce.edu/event/academic-12225/
LOCATION:Anaheim Campus\, 1830 West Romneya Drive\, Anaheim\, CA\, 92801\, United States
CATEGORIES:Committee Meetings
ATTACH;FMTTYPE=image/png:https://noce.edu/wp-content/uploads/2024/01/Academic-Senate.png
ORGANIZER;CN="Academic Senate":MAILTO:mpatrick@noce.edu
END:VEVENT
BEGIN:VEVENT
DTSTART;TZID=America/Los_Angeles:20251203T173000
DTEND;TZID=America/Los_Angeles:20251203T183000
DTSTAMP:20260419T105340
CREATED:20251122T075413Z
LAST-MODIFIED:20251122T075413Z
UID:31981-1764783000-1764786600@noce.edu
SUMMARY:DSS: Workability III Information Session
DESCRIPTION:Workability III\nLooking for work? Workability can help! \nWorkability III is an employment services program that will assist you with your job search. \nProgram Participants will receive 1:1 support with:\n\nEmployment preparation.\nJob development and placement assistance.\nPaid work experience opportunities.\nBenefits and accommodation counseling.\nRetention services.\nAnd More!\n\nProgram participants must:\n\nBe 18 years or older\nHave a verifiable disability\nBe ready to work 15-20 hours per week\n\nVisit this Workability interest form to sign up for the information session.\nFor more information\, application assistance\, or accommodations\, contact Workability3@noce.edu or (714) 808-4702
URL:https://noce.edu/event/dss-workability-iii-information-session/
LOCATION:Online
CATEGORIES:Information Session,Student Event,Workshop
ATTACH;FMTTYPE=image/png:https://noce.edu/wp-content/uploads/2025/11/Workability-3-20251.png
ORGANIZER;CN="Disability Support Services - Workability III":MAILTO:workability3@noce.edu
END:VEVENT
BEGIN:VEVENT
DTSTART;TZID=America/Los_Angeles:20251204T150000
DTEND;TZID=America/Los_Angeles:20251204T163000
DTSTAMP:20260419T105340
CREATED:20250610T202702Z
LAST-MODIFIED:20250610T202702Z
UID:29236-1764860400-1764865800@noce.edu
SUMMARY:Distance Education Committee Meeting
DESCRIPTION:The Distance Education Committee will meet on the first Thursday of each month during the academic year from 3 p.m. to 4:30 p.m. in room 1014 at the Anaheim Campus.\nThe DE Committee provides recommendations to successfully implement the goals and objectives adopted in the Distance Education Plan and supports student success by promoting best practices for high‐quality instruction and online student resources at NOCE.
URL:https://noce.edu/event/de-12425/
LOCATION:Anaheim Campus\, 1830 West Romneya Drive\, Anaheim\, CA\, 92801\, United States
CATEGORIES:Committee Meetings
ATTACH;FMTTYPE=image/png:https://noce.edu/wp-content/uploads/2024/12/Distance-Education-Committee.png
ORGANIZER;CN="Distance Education Committee":MAILTO:clopez@noce.edu
END:VEVENT
BEGIN:VEVENT
DTSTART;TZID=America/Los_Angeles:20251209T153000
DTEND;TZID=America/Los_Angeles:20251209T170000
DTSTAMP:20260419T105340
CREATED:20250610T175857Z
LAST-MODIFIED:20250610T175857Z
UID:29217-1765294200-1765299600@noce.edu
SUMMARY:Curriculum Committee Meeting
DESCRIPTION:The NOCE Curriculum Committee meets every 2nd Tuesday of the month from 3:30 p.m. – 5 p.m. in-person at the Anaheim Campus\, 10th floor\, in room 1025.\nThe purpose of the Curriculum Committee meeting is to review and approve new and revised courses and programs. The group provides the originators with feedback for the sake of clarity and quality.  \nCurrent topics at the Curriculum Committee meeting include reviewing/approving the curriculum for implementation at NOCE.
URL:https://noce.edu/event/curriculum-12925/
LOCATION:Anaheim Campus\, 1830 West Romneya Drive\, Anaheim\, CA\, 92801\, United States
CATEGORIES:Committee Meetings
ATTACH;FMTTYPE=image/png:https://noce.edu/wp-content/uploads/2024/01/Curriculum-Committee.png
ORGANIZER;CN="Curriculum Committee":MAILTO:joo@noce.edu
END:VEVENT
END:VCALENDAR