BEGIN:VCALENDAR
VERSION:2.0
PRODID:-//North Orange Continuing Education - ECPv6.15.20//NONSGML v1.0//EN
CALSCALE:GREGORIAN
METHOD:PUBLISH
X-WR-CALNAME:North Orange Continuing Education
X-ORIGINAL-URL:https://noce.edu
X-WR-CALDESC:Events for North Orange Continuing Education
REFRESH-INTERVAL;VALUE=DURATION:PT1H
X-Robots-Tag:noindex
X-PUBLISHED-TTL:PT1H
BEGIN:VTIMEZONE
TZID:America/Los_Angeles
BEGIN:DAYLIGHT
TZOFFSETFROM:-0800
TZOFFSETTO:-0700
TZNAME:PDT
DTSTART:20250309T100000
END:DAYLIGHT
BEGIN:STANDARD
TZOFFSETFROM:-0700
TZOFFSETTO:-0800
TZNAME:PST
DTSTART:20251102T090000
END:STANDARD
BEGIN:DAYLIGHT
TZOFFSETFROM:-0800
TZOFFSETTO:-0700
TZNAME:PDT
DTSTART:20260308T100000
END:DAYLIGHT
BEGIN:STANDARD
TZOFFSETFROM:-0700
TZOFFSETTO:-0800
TZNAME:PST
DTSTART:20261101T090000
END:STANDARD
BEGIN:DAYLIGHT
TZOFFSETFROM:-0800
TZOFFSETTO:-0700
TZNAME:PDT
DTSTART:20270314T100000
END:DAYLIGHT
BEGIN:STANDARD
TZOFFSETFROM:-0700
TZOFFSETTO:-0800
TZNAME:PST
DTSTART:20271107T090000
END:STANDARD
END:VTIMEZONE
BEGIN:VEVENT
DTSTART;TZID=America/Los_Angeles:20260515T173000
DTEND;TZID=America/Los_Angeles:20260515T203000
DTSTAMP:20260423T180905
CREATED:20260318T230413Z
LAST-MODIFIED:20260318T230614Z
UID:32765-1778866200-1778877000@noce.edu
SUMMARY:2026 Commencement & Student Success
DESCRIPTION:NOCE students can participate in the 2026 Commencement and Student Success Ceremony if they complete their requirements in specific academic programs from July 2025 to May 2026. \nPlease visit the Commencement & Student Success page to get more information on the requirements. 
URL:https://noce.edu/event/2026-commencement-student-success/
LOCATION:Cottonwood Church\, Los Alamitos\, 4505 Katella Ave\, Los Alamitos\, CA\, 90720\, United States
CATEGORIES:Student Event
ATTACH;FMTTYPE=image/png:https://noce.edu/wp-content/uploads/2026/03/2026-Commencement-and-Student-Success.png
END:VEVENT
END:VCALENDAR